BEGIN:VCALENDAR
VERSION:2.0
PRODID:-//hacksw/handcal//NONSGML v1.0//EN
BEGIN:VEVENT
SUMMARY:DRJ3
UID:c2dd5a0a-49b6-443f-8b87-20662cd2673d
DTSTART:20260607T053000Z
DTEND:20260607T164500Z
LOCATION:Localisation STADE municipal  D'esbly 77450 esbly
CATEGORIES:Sportif
STATUS:
URL;VALUE=URI:https://ciearcesbly.sportsregions.fr/evenements/2026/06/07/drj3-2443536
END:VEVENT
END:VCALENDAR
